BEGIN:VCALENDAR
VERSION:2.0
PRODID:-//Memorial Health System - ECPv6.15.20//NONSGML v1.0//EN
CALSCALE:GREGORIAN
METHOD:PUBLISH
X-WR-CALNAME:Memorial Health System
X-ORIGINAL-URL:https://wearememorial.com
X-WR-CALDESC:Events for Memorial Health System
REFRESH-INTERVAL;VALUE=DURATION:PT1H
X-Robots-Tag:noindex
X-PUBLISHED-TTL:PT1H
BEGIN:VTIMEZONE
TZID:America/Chicago
BEGIN:DAYLIGHT
TZOFFSETFROM:-0600
TZOFFSETTO:-0500
TZNAME:CDT
DTSTART:20250309T080000
END:DAYLIGHT
BEGIN:STANDARD
TZOFFSETFROM:-0500
TZOFFSETTO:-0600
TZNAME:CST
DTSTART:20251102T070000
END:STANDARD
BEGIN:DAYLIGHT
TZOFFSETFROM:-0600
TZOFFSETTO:-0500
TZNAME:CDT
DTSTART:20260308T080000
END:DAYLIGHT
BEGIN:STANDARD
TZOFFSETFROM:-0500
TZOFFSETTO:-0600
TZNAME:CST
DTSTART:20261101T070000
END:STANDARD
BEGIN:DAYLIGHT
TZOFFSETFROM:-0600
TZOFFSETTO:-0500
TZNAME:CDT
DTSTART:20270314T080000
END:DAYLIGHT
BEGIN:STANDARD
TZOFFSETFROM:-0500
TZOFFSETTO:-0600
TZNAME:CST
DTSTART:20271107T070000
END:STANDARD
END:VTIMEZONE
BEGIN:VEVENT
DTSTART;TZID=America/Chicago:20260420T090000
DTEND;TZID=America/Chicago:20260420T100000
DTSTAMP:20260422T062225
CREATED:20260330T202737Z
LAST-MODIFIED:20260330T202837Z
UID:34701-1776675600-1776679200@wearememorial.com
SUMMARY:Daily Herald 📰
DESCRIPTION:
URL:https://wearememorial.com/event/daily-herald-62/2026-04-20/
CATEGORIES:Woodland Village Nursing Center
END:VEVENT
BEGIN:VEVENT
DTSTART;TZID=America/Chicago:20260420T100000
DTEND;TZID=America/Chicago:20260420T110000
DTSTAMP:20260422T062225
CREATED:20260330T202929Z
LAST-MODIFIED:20260330T202929Z
UID:34710-1776679200-1776682800@wearememorial.com
SUMMARY:Bible Study
DESCRIPTION:
URL:https://wearememorial.com/event/bible-study-40/2026-04-20/
CATEGORIES:Woodland Village Nursing Center
END:VEVENT
BEGIN:VEVENT
DTSTART;TZID=America/Chicago:20260420T103000
DTEND;TZID=America/Chicago:20260420T113000
DTSTAMP:20260422T062225
CREATED:20260330T203008Z
LAST-MODIFIED:20260330T203008Z
UID:34715-1776681000-1776684600@wearememorial.com
SUMMARY:Chair Moves
DESCRIPTION:
URL:https://wearememorial.com/event/chair-moves-69/2026-04-20/
CATEGORIES:Woodland Village Nursing Center
END:VEVENT
BEGIN:VEVENT
DTSTART;TZID=America/Chicago:20260420T140000
DTEND;TZID=America/Chicago:20260420T150000
DTSTAMP:20260422T062225
CREATED:20260330T203120Z
LAST-MODIFIED:20260330T203120Z
UID:34720-1776693600-1776697200@wearememorial.com
SUMMARY:Black Jack
DESCRIPTION:
URL:https://wearememorial.com/event/black-jack-43/2026-04-20/
CATEGORIES:Woodland Village Nursing Center
END:VEVENT
BEGIN:VEVENT
DTSTART;TZID=America/Chicago:20260420T150000
DTEND;TZID=America/Chicago:20260420T160000
DTSTAMP:20260422T062225
CREATED:20260330T203301Z
LAST-MODIFIED:20260330T203301Z
UID:34726-1776697200-1776700800@wearememorial.com
SUMMARY:Dominoes
DESCRIPTION:
URL:https://wearememorial.com/event/dominoes-31/2026-04-20/
CATEGORIES:Woodland Village Nursing Center
END:VEVENT
BEGIN:VEVENT
DTSTART;TZID=America/Chicago:20260420T183000
DTEND;TZID=America/Chicago:20260420T200000
DTSTAMP:20260422T062225
CREATED:20260330T203357Z
LAST-MODIFIED:20260330T203425Z
UID:34731-1776709800-1776715200@wearememorial.com
SUMMARY:Movie Night 🍿
DESCRIPTION:
URL:https://wearememorial.com/event/movie-night-87/2026-04-20/
CATEGORIES:Woodland Village Nursing Center
END:VEVENT
END:VCALENDAR